BEGIN:VCALENDAR
VERSION:2.0
PRODID:-//https://zo-brabant.hcc.nl///NONSGML kigkonsult.se iCalcreator 2.10.15//
METHOD:PUBLISH
BEGIN:VEVENT
UID:20260422T202751CEST-1862UmVPtf@https://zo-brabant.hcc.nl/
DTSTAMP:20260422T182751Z
DESCRIPTION:Bijeenkomst waarbij we proberen wat meer over dit onderwerp te 
 weten te komen via de theorie.\nWe praten ook over vragen bij leden. https
 ://zo-brabant.hcc.nl/component/rseventspro/evenement/881-single-board-comp
 uter?Itemid=101
DTSTART:20261006T173000Z
DTEND:20261006T203000Z
LOCATION:Wijkhuis de Westwijzer (Cortenbachstraat 70\, 5707 TJ Helmond)
SUMMARY:Single Board Computer
URL:https://zo-brabant.hcc.nl/component/rseventspro/evenement/881-single-bo
 ard-computer?Itemid=101
END:VEVENT
BEGIN:VEVENT
UID:20260422T202751CEST-1863JeVSR3@https://zo-brabant.hcc.nl/
DTSTAMP:20260422T182751Z
DESCRIPTION:We nemen de theorie door en de vragen van de deelnemers https:/
 /zo-brabant.hcc.nl/component/rseventspro/evenement/891-3d-printen?Itemid=1
 01
DTSTART:20261019T180000Z
DTEND:20261019T200000Z
LOCATION:De Geseldonk (Cederhoutstraat 44\, 5706 XC Helmond)
SUMMARY:3D printen
URL:https://zo-brabant.hcc.nl/component/rseventspro/evenement/891-3d-printe
 n?Itemid=101
END:VEVENT
BEGIN:VEVENT
UID:20260422T202751CEST-1863W3T0uZ@https://zo-brabant.hcc.nl/
DTSTAMP:20260422T182751Z
DESCRIPTION:Bijeenkomst voor iedereen die geïnteresseerd is in wat HCC doet
  en wat in zo-brabant zoal te beleven valt op computergebied.\nIedereen is
  welkom https://zo-brabant.hcc.nl/component/rseventspro/evenement/897-inlo
 op-meerdere-werkgroepen?Itemid=101
DTSTART:20261017T110000Z
DTEND:20261017T140000Z
LOCATION:Wijkcentrum 't Slot (Kastelenplein 167\, 5653 LX Eindhoven)
SUMMARY:Inloop meerdere werkgroepen
URL:https://zo-brabant.hcc.nl/component/rseventspro/evenement/897-inloop-me
 erdere-werkgroepen?Itemid=101
END:VEVENT
BEGIN:VEVENT
UID:20260422T202751CEST-1864KKkRfm@https://zo-brabant.hcc.nl/
DTSTAMP:20260422T182751Z
DESCRIPTION:Uiteenlopende presentaties de computer betreffende.\nGratis toe
 gankelijk\nDeze presentaties zijn over het algemeen goed te begrijpen.\nIe
 dereen welkom https://zo-brabant.hcc.nl/component/rseventspro/evenement/90
 3-presentaties-op-computergebied?Itemid=101
DTSTART:20261005T180000Z
DTEND:20261005T200000Z
LOCATION:Wijkcentrum 't Slot (Kastelenplein 167\, 5653 LX Eindhoven)
SUMMARY:Presentaties op computergebied
URL:https://zo-brabant.hcc.nl/component/rseventspro/evenement/903-presentat
 ies-op-computergebied?Itemid=101
END:VEVENT
BEGIN:VEVENT
UID:20260422T202751CEST-18654V3H8T@https://zo-brabant.hcc.nl/
DTSTAMP:20260422T182751Z
DESCRIPTION:Niet-leden melden zich aan en kunnen komen kijken.\nAanmelden b
 ij werkgroep-coördinator.\nzie website onder werkgroepen https://zo-braban
 t.hcc.nl/component/rseventspro/evenement/910-linux?Itemid=101
DTSTART:20261026T173000Z
DTEND:20261026T203000Z
LOCATION:Wijkcentrum 't Slot (Kastelenplein 167\, 5653 LX Eindhoven)
SUMMARY:Linux
URL:https://zo-brabant.hcc.nl/component/rseventspro/evenement/910-linux?Ite
 mid=101
END:VEVENT
BEGIN:VEVENT
UID:20260422T202751CEST-18650KMIRz@https://zo-brabant.hcc.nl/
DTSTAMP:20260422T182751Z
DESCRIPTION:We proberen te helpen enondersteunen bij problemen met de compu
 ter.\nDeze hulp is bestemd voor leden van HCC https://zo-brabant.hcc.nl/co
 mponent/rseventspro/evenement/919-helpdesk-inloop-eindhoven?Itemid=101
DTSTART:20261013T113000Z
DTEND:20261013T140000Z
LOCATION:Activiteitencentrum Orka\,  (Broekakkerseweg 1\, 5641 PC Eindhoven
 )
SUMMARY:Helpdesk/ inloop Eindhoven
URL:https://zo-brabant.hcc.nl/component/rseventspro/evenement/919-helpdesk-
 inloop-eindhoven?Itemid=101
END:VEVENT
BEGIN:VEVENT
UID:20260422T202751CEST-1865NrJ1NX@https://zo-brabant.hcc.nl/
DTSTAMP:20260422T182751Z
DESCRIPTION:We proberen te helpen enondersteunen bij problemen met de compu
 ter.\nDeze hulp is bestemd voor leden van HCC https://zo-brabant.hcc.nl/co
 mponent/rseventspro/evenement/920-helpdesk-inloop-eindhoven?Itemid=101
DTSTART:20261027T113000Z
DTEND:20261027T140000Z
LOCATION:Activiteitencentrum Orka\,  (Broekakkerseweg 1\, 5641 PC Eindhoven
 )
SUMMARY:Helpdesk/ inloop Eindhoven
URL:https://zo-brabant.hcc.nl/component/rseventspro/evenement/920-helpdesk-
 inloop-eindhoven?Itemid=101
END:VEVENT
BEGIN:VEVENT
UID:20260422T202751CEST-1866i43Nh0@https://zo-brabant.hcc.nl/
DTSTAMP:20260422T182751Z
DESCRIPTION:Problemen met computer\, laptop of telefoon proberen we op te l
 ossen. Voor leden van HCC en Senioren Brabant https://zo-brabant.hcc.nl/co
 mponent/rseventspro/evenement/925-helpdesk-helmond?Itemid=101
DTSTART:20261021T113000Z
DTEND:20261021T143000Z
LOCATION:De Geseldonk (Cederhoutstraat 44\, 5706 XC Helmond)
SUMMARY:Helpdesk Helmond
URL:https://zo-brabant.hcc.nl/component/rseventspro/evenement/925-helpdesk-
 helmond?Itemid=101
END:VEVENT
BEGIN:VEVENT
UID:20260422T202751CEST-1866su2Eo7@https://zo-brabant.hcc.nl/
DTSTAMP:20260422T182751Z
DESCRIPTION:Presentaties over onderwerpen waar de computer nauw bij betrokk
 en is dan wel die de computer zelf betreffen https://zo-brabant.hcc.nl/com
 ponent/rseventspro/evenement/929-presentatie-computergerelateerde-onderwer
 pen?Itemid=101
DTSTART:20261013T080000Z
DTEND:20261013T100000Z
LOCATION:Activiteitencentrum Orka (Broekakkerseweg 1\, 5641 PC Eindhoven)
SUMMARY:Presentatie computergerelateerde onderwerpen
URL:https://zo-brabant.hcc.nl/component/rseventspro/evenement/929-presentat
 ie-computergerelateerde-onderwerpen?Itemid=101
END:VEVENT
BEGIN:VEVENT
UID:20260422T202751CEST-1867ntCsbZ@https://zo-brabant.hcc.nl/
DTSTAMP:20260422T182751Z
DESCRIPTION:We nemen allerlei aspecten van video en film maken door https:/
 /zo-brabant.hcc.nl/component/rseventspro/evenement/934-videobewerking?Item
 id=101
DTSTART:20261008T173000Z
DTEND:20261008T203000Z
LOCATION:Wijkhuis de Westwijzer (Cortenbachstraat 70\, 5707 TJ Helmond)
SUMMARY:Videobewerking
URL:https://zo-brabant.hcc.nl/component/rseventspro/evenement/934-videobewe
 rking?Itemid=101
END:VEVENT
END:VCALENDAR
